BEGIN:VCALENDAR
VERSION:2.0
PRODID:-//Cusco - ECPv6.15.20//NONSGML v1.0//EN
CALSCALE:GREGORIAN
METHOD:PUBLISH
X-ORIGINAL-URL:https://www.cuscovactrucks.com
X-WR-CALDESC:Events for Cusco
REFRESH-INTERVAL;VALUE=DURATION:PT1H
X-Robots-Tag:noindex
X-PUBLISHED-TTL:PT1H
BEGIN:VTIMEZONE
TZID:America/Chicago
BEGIN:DAYLIGHT
TZOFFSETFROM:-0600
TZOFFSETTO:-0500
TZNAME:CDT
DTSTART:20250309T080000
END:DAYLIGHT
BEGIN:STANDARD
TZOFFSETFROM:-0500
TZOFFSETTO:-0600
TZNAME:CST
DTSTART:20251102T070000
END:STANDARD
BEGIN:DAYLIGHT
TZOFFSETFROM:-0600
TZOFFSETTO:-0500
TZNAME:CDT
DTSTART:20260308T080000
END:DAYLIGHT
BEGIN:STANDARD
TZOFFSETFROM:-0500
TZOFFSETTO:-0600
TZNAME:CST
DTSTART:20261101T070000
END:STANDARD
BEGIN:DAYLIGHT
TZOFFSETFROM:-0600
TZOFFSETTO:-0500
TZNAME:CDT
DTSTART:20270314T080000
END:DAYLIGHT
BEGIN:STANDARD
TZOFFSETFROM:-0500
TZOFFSETTO:-0600
TZNAME:CST
DTSTART:20271107T070000
END:STANDARD
END:VTIMEZONE
BEGIN:VEVENT
DTSTART;VALUE=DATE:20260119
DTEND;VALUE=DATE:20260122
DTSTAMP:20260420T162220
CREATED:20251202T165935Z
LAST-MODIFIED:20251202T165953Z
UID:38590-1768780800-1769039999@www.cuscovactrucks.com
SUMMARY:AED Summit/CONDEX
DESCRIPTION:Cusco will be attending the AED Summit\, a gathering point for the future of equipment distribution. \nBOOTH NUMBER xxxxx
URL:https://www.cuscovactrucks.com/event/aed-summit-condex/
LOCATION:Hilton Anatole – Dallax\, TX\, 2201 N Stemmons Fwy\, Dallas\, TX\, 75207\, United States
CATEGORIES:Tradeshows
ATTACH;FMTTYPE=image/png:https://www.cuscovactrucks.com/wp-content/uploads/2025/12/2026-Summit-Logo-768x367-1.png
END:VEVENT
END:VCALENDAR